BEGIN:VCALENDAR
VERSION:2.0
PRODID:-//A Touch Of Gay - ECPv6.13.2.1//NONSGML v1.0//EN
CALSCALE:GREGORIAN
METHOD:PUBLISH
X-ORIGINAL-URL:https://atouchofgay.com
X-WR-CALDESC:Events for A Touch Of Gay
REFRESH-INTERVAL;VALUE=DURATION:PT1H
X-Robots-Tag:noindex
X-PUBLISHED-TTL:PT1H
BEGIN:VTIMEZONE
TZID:America/Denver
BEGIN:DAYLIGHT
TZOFFSETFROM:-0700
TZOFFSETTO:-0600
TZNAME:MDT
DTSTART:20240310T090000
END:DAYLIGHT
BEGIN:STANDARD
TZOFFSETFROM:-0600
TZOFFSETTO:-0700
TZNAME:MST
DTSTART:20241103T080000
END:STANDARD
END:VTIMEZONE
BEGIN:VEVENT
DTSTART;TZID=America/Denver:20241129T110000
DTEND;TZID=America/Denver:20241201T170000
DTSTAMP:20260425T181048
CREATED:20241108T130807Z
LAST-MODIFIED:20241108T130807Z
UID:697-1732878000-1733072400@atouchofgay.com
SUMMARY:Tom of Finland Art & Culture Festival 2024 – Los Angeles
DESCRIPTION:The world’s largest erotic art fair\, it’s a socially-friendly setting for artists\, galleries\, collectors and vendors to socialize as well as buy and sell works of art. Programming for this year’s Festival in Los Angeles is more expansive than ever! \nDaddy SamSmoker of fine tires\, eater of natural foods\, connoisseur of aromatic leathers\, pusher of limits.
URL:https://atouchofgay.com/event/tom-of-finland-art-culture-festival-2024-los-angeles/
LOCATION:Hotel Indigo\, 899 Francisco Street\, Los Angeles\, CA\, 90017\, United States
END:VEVENT
END:VCALENDAR