BEGIN:VCALENDAR
VERSION:2.0
PRODID:-//A Touch Of Gay - ECPv6.13.2.1//NONSGML v1.0//EN
CALSCALE:GREGORIAN
METHOD:PUBLISH
X-WR-CALNAME:A Touch Of Gay
X-ORIGINAL-URL:https://atouchofgay.com
X-WR-CALDESC:Events for A Touch Of Gay
REFRESH-INTERVAL;VALUE=DURATION:PT1H
X-Robots-Tag:noindex
X-PUBLISHED-TTL:PT1H
BEGIN:VTIMEZONE
TZID:America/Denver
BEGIN:DAYLIGHT
TZOFFSETFROM:-0700
TZOFFSETTO:-0600
TZNAME:MDT
DTSTART:20250309T090000
END:DAYLIGHT
BEGIN:STANDARD
TZOFFSETFROM:-0600
TZOFFSETTO:-0700
TZNAME:MST
DTSTART:20251102T080000
END:STANDARD
END:VTIMEZONE
BEGIN:VEVENT
DTSTART;VALUE=DATE:20250516
DTEND;VALUE=DATE:20250519
DTSTAMP:20260425T060321
CREATED:20241215T204333Z
LAST-MODIFIED:20241215T204333Z
UID:774-1747353600-1747612799@atouchofgay.com
SUMMARY:Tag Team - Palm Springs\, CA
DESCRIPTION:CONTENT CREATOR WEEKEND WITH BEARUNION \nThis SPECIAL EVENT is aimed at attracting content creators on Twitter\, OF\, JFF\, etc… We’ve created special areas around the resort for filming freely with others in a unique and colorful outdoor environment. Meet other creators\, film together\, and share with the world. Or just watch and have fun with all the guys you love to see on the internet.  \nDaddy SamSmoker of fine tires\, eater of natural foods\, connoisseur of aromatic leathers\, pusher of limits.
URL:https://atouchofgay.com/event/tag-team-palm-springs-ca/
LOCATION:CCBC Resort\, 68300 Gay Resort Drive\, Cathedral City\, CA\, 92234\, United States
END:VEVENT
END:VCALENDAR