BEGIN:VCALENDAR
VERSION:2.0
PRODID:-//A Touch Of Gay - ECPv6.13.2.1//NONSGML v1.0//EN
CALSCALE:GREGORIAN
METHOD:PUBLISH
X-ORIGINAL-URL:https://atouchofgay.com
X-WR-CALDESC:Events for A Touch Of Gay
REFRESH-INTERVAL;VALUE=DURATION:PT1H
X-Robots-Tag:noindex
X-PUBLISHED-TTL:PT1H
BEGIN:VTIMEZONE
TZID:America/Denver
BEGIN:DAYLIGHT
TZOFFSETFROM:-0700
TZOFFSETTO:-0600
TZNAME:MDT
DTSTART:20250309T090000
END:DAYLIGHT
BEGIN:STANDARD
TZOFFSETFROM:-0600
TZOFFSETTO:-0700
TZNAME:MST
DTSTART:20251102T080000
END:STANDARD
END:VTIMEZONE
BEGIN:VEVENT
DTSTART;VALUE=DATE:20250613
DTEND;VALUE=DATE:20250616
DTSTAMP:20260425T043104
CREATED:20250226T145405Z
LAST-MODIFIED:20250226T145549Z
UID:971-1749772800-1750031999@atouchofgay.com
SUMMARY:Bisbee Pride - AZ
DESCRIPTION:Bisbee Pride began in 2004 by a small group of LGBT friends. From a small local Pride Celebration Bisbee Pride has grown into a year-round community service focused non-profit organization. \nDaddy SamSmoker of fine tires\, eater of natural foods\, connoisseur of aromatic leathers\, pusher of limits.
URL:https://atouchofgay.com/event/bisbee-pride-az/
LOCATION:Bisbee\, AZ\, Bisbee\, AZ\, United States
END:VEVENT
BEGIN:VEVENT
DTSTART;VALUE=DATE:20250614
DTEND;VALUE=DATE:20250616
DTSTAMP:20260425T043104
CREATED:20250301T122219Z
LAST-MODIFIED:20250301T122219Z
UID:1014-1749859200-1750031999@atouchofgay.com
SUMMARY:Sacramento Pride - CA
DESCRIPTION:Daddy SamSmoker of fine tires\, eater of natural foods\, connoisseur of aromatic leathers\, pusher of limits.
URL:https://atouchofgay.com/event/sacramento-pride-ca/
LOCATION:Sacramento\, CA\, Sacramento\, CA\, United States
END:VEVENT
BEGIN:VEVENT
DTSTART;VALUE=DATE:20250614
DTEND;VALUE=DATE:20250616
DTSTAMP:20260425T043104
CREATED:20250301T133523Z
LAST-MODIFIED:20250301T133523Z
UID:1090-1749859200-1750031999@atouchofgay.com
SUMMARY:Dallas Pride - TX
DESCRIPTION:The mission of Dallas Pride is to strengthen\, support and celebrate the LGBTQ+ community. By prioritizing inclusiveness\, Dallas Pride fosters a feeling of belonging for everyone from youth to seniors by creating events\, initiatives and programs that foster connections between members of the community\, its allies and its supporters. \nDaddy SamSmoker of fine tires\, eater of natural foods\, connoisseur of aromatic leathers\, pusher of limits.
URL:https://atouchofgay.com/event/dallas-pride-tx/
LOCATION:Dallas\, TX\, Dallas\, TX\, United States
END:VEVENT
BEGIN:VEVENT
DTSTART;VALUE=DATE:20250615
DTEND;VALUE=DATE:20250616
DTSTAMP:20260425T043104
CREATED:20241230T142451Z
LAST-MODIFIED:20241230T142451Z
UID:838-1749945600-1750031999@atouchofgay.com
SUMMARY:Folsom Street East - NY\, NY
DESCRIPTION:Since 1997\, Folsom Street East’s festival has become an annual highlight of the global fetish/kink calendar as a sex- and body-positive shared space on the streets of New York City. \nDaddy SamSmoker of fine tires\, eater of natural foods\, connoisseur of aromatic leathers\, pusher of limits.
URL:https://atouchofgay.com/event/folsom-street-east-ny-ny/
LOCATION:CA
END:VEVENT
END:VCALENDAR