BEGIN:VCALENDAR
VERSION:2.0
PRODID:-//A Touch Of Gay - ECPv6.13.2.1//NONSGML v1.0//EN
CALSCALE:GREGORIAN
METHOD:PUBLISH
X-WR-CALNAME:A Touch Of Gay
X-ORIGINAL-URL:https://atouchofgay.com
X-WR-CALDESC:Events for A Touch Of Gay
REFRESH-INTERVAL;VALUE=DURATION:PT1H
X-Robots-Tag:noindex
X-PUBLISHED-TTL:PT1H
BEGIN:VTIMEZONE
TZID:America/Denver
BEGIN:DAYLIGHT
TZOFFSETFROM:-0700
TZOFFSETTO:-0600
TZNAME:MDT
DTSTART:20250309T090000
END:DAYLIGHT
BEGIN:STANDARD
TZOFFSETFROM:-0600
TZOFFSETTO:-0700
TZNAME:MST
DTSTART:20251102T080000
END:STANDARD
END:VTIMEZONE
BEGIN:VEVENT
DTSTART;VALUE=DATE:20250619
DTEND;VALUE=DATE:20250623
DTSTAMP:20260425T060317
CREATED:20241215T204513Z
LAST-MODIFIED:20241215T204513Z
UID:776-1750291200-1750636799@atouchofgay.com
SUMMARY:Heat Wave - Palm Springs\, CA
DESCRIPTION:The Official Naked Parties of Tidal Wave at CCBC Resport \nDaddy SamSmoker of fine tires\, eater of natural foods\, connoisseur of aromatic leathers\, pusher of limits.
URL:https://atouchofgay.com/event/heat-wave-palm-springs-ca/
LOCATION:CCBC Resort\, 68300 Gay Resort Drive\, Cathedral City\, CA\, 92234\, United States
END:VEVENT
BEGIN:VEVENT
DTSTART;VALUE=DATE:20250620
DTEND;VALUE=DATE:20250623
DTSTAMP:20260425T060317
CREATED:20250301T131300Z
LAST-MODIFIED:20250301T131300Z
UID:1066-1750377600-1750636799@atouchofgay.com
SUMMARY:Missoula Pride - MT
DESCRIPTION:Join us for a wide array of community-oriented educational and entertainment opportunities\, with a particular focus on making events accessible via donation-based entry and all-ages formats. \nDaddy SamSmoker of fine tires\, eater of natural foods\, connoisseur of aromatic leathers\, pusher of limits.
URL:https://atouchofgay.com/event/missoula-pride-mt/
LOCATION:Missoula\, MT\, Missoula\, MT\, United States
END:VEVENT
BEGIN:VEVENT
DTSTART;VALUE=DATE:20250621
DTEND;VALUE=DATE:20250622
DTSTAMP:20260425T060317
CREATED:20250226T145107Z
LAST-MODIFIED:20250226T145107Z
UID:965-1750464000-1750550399@atouchofgay.com
SUMMARY:Flagstaff Pride - AZ
DESCRIPTION:At Flagstaff Pride\, we are committed to honoring the diversity and inclusivity of the 2SLGBTQIA+ community\, with a special focus on Indigenous voices. \nDaddy SamSmoker of fine tires\, eater of natural foods\, connoisseur of aromatic leathers\, pusher of limits.
URL:https://atouchofgay.com/event/flagstaff-pride-az/
LOCATION:Flagstaff\, AZ\, Flagstaff\, AZ\, United States
END:VEVENT
BEGIN:VEVENT
DTSTART;VALUE=DATE:20250621
DTEND;VALUE=DATE:20250622
DTSTAMP:20260425T060317
CREATED:20250301T132020Z
LAST-MODIFIED:20250301T132020Z
UID:1070-1750464000-1750550399@atouchofgay.com
SUMMARY:Pride Cheyenne - WY
DESCRIPTION:Pride Cheyenne is a free street fair\, celebrated downtown during the pride month of June. We will have food trucks\, music\, vendors\, organizations\, artists and performers. We even have a puppy pageant! Want to be apart of the fun? Email us to inquire about any questions about our events\, being a vendor or sponsor! \nDaddy SamSmoker of fine tires\, eater of natural foods\, connoisseur of aromatic leathers\, pusher of limits.
URL:https://atouchofgay.com/event/pride-cheyenne-wy/
LOCATION:Cheyenne\, WY\, Cheyenne\, WY\, United States
END:VEVENT
END:VCALENDAR