BEGIN:VCALENDAR
VERSION:2.0
PRODID:-//A Touch Of Gay - ECPv6.13.2.1//NONSGML v1.0//EN
CALSCALE:GREGORIAN
METHOD:PUBLISH
X-WR-CALNAME:A Touch Of Gay
X-ORIGINAL-URL:https://atouchofgay.com
X-WR-CALDESC:Events for A Touch Of Gay
REFRESH-INTERVAL;VALUE=DURATION:PT1H
X-Robots-Tag:noindex
X-PUBLISHED-TTL:PT1H
BEGIN:VTIMEZONE
TZID:America/Denver
BEGIN:DAYLIGHT
TZOFFSETFROM:-0700
TZOFFSETTO:-0600
TZNAME:MDT
DTSTART:20250309T090000
END:DAYLIGHT
BEGIN:STANDARD
TZOFFSETFROM:-0600
TZOFFSETTO:-0700
TZNAME:MST
DTSTART:20251102T080000
END:STANDARD
END:VTIMEZONE
BEGIN:VEVENT
DTSTART;VALUE=DATE:20250626
DTEND;VALUE=DATE:20250701
DTSTAMP:20260425T042826
CREATED:20241215T212948Z
LAST-MODIFIED:20241215T212948Z
UID:812-1750896000-1751327999@atouchofgay.com
SUMMARY:Gay And Sober Men's Conference - NY\, NY
DESCRIPTION:GSM is not your average conference—it’s a vibrant\, inclusive celebration for anyone who identifies with gay male culture. We’re proud to welcome cis gay men\, trans men\, queer boys\, gender-fluid\, and non-binary individuals. Simply put\, if you resonate with our community\, you’re going to love this event. \nDaddy SamSmoker of fine tires\, eater of natural foods\, connoisseur of aromatic leathers\, pusher of limits.
URL:https://atouchofgay.com/event/gay-and-sober-mens-conference-ny-ny/
LOCATION:New York\, NY\, United States
END:VEVENT
BEGIN:VEVENT
DTSTART;VALUE=DATE:20250627
DTEND;VALUE=DATE:20250630
DTSTAMP:20260425T042826
CREATED:20250309T145304Z
LAST-MODIFIED:20250309T145304Z
UID:1104-1750982400-1751241599@atouchofgay.com
SUMMARY:Oklahoma PrideFest - OKC
DESCRIPTION:Happening June 27-29 this year\, is quickly becoming a signature event in OKC. Held at Scissortail Park\, PrideFest provides a platform for LGBTQ+ individuals to connect\, celebrate and be visible in the Oklahoma City community. \nDaddy SamSmoker of fine tires\, eater of natural foods\, connoisseur of aromatic leathers\, pusher of limits.
URL:https://atouchofgay.com/event/oklahoma-pridefest-okc/
LOCATION:Oklahoma Ciity\, Oklahoma City\, OK\, United States
END:VEVENT
BEGIN:VEVENT
DTSTART;VALUE=DATE:20250627
DTEND;VALUE=DATE:20250630
DTSTAMP:20260425T042826
CREATED:20250309T150919Z
LAST-MODIFIED:20250309T150919Z
UID:1119-1750982400-1751241599@atouchofgay.com
SUMMARY:Wichita Pride - KS
DESCRIPTION:The board is looking forward to 2025. It’s Wichita Pride’s Emerald Anniversary. With a theme of “There’s No Place like Pride” the board is looking to expand to Expo Hall with multiple events. \nDaddy SamSmoker of fine tires\, eater of natural foods\, connoisseur of aromatic leathers\, pusher of limits.
URL:https://atouchofgay.com/event/wichita-pride-ks/
LOCATION:Wichita\, Wichita\, KS\, United States
END:VEVENT
BEGIN:VEVENT
DTSTART;VALUE=DATE:20250628
DTEND;VALUE=DATE:20250629
DTSTAMP:20260425T042826
CREATED:20250301T124125Z
LAST-MODIFIED:20250301T124125Z
UID:1036-1751068800-1751155199@atouchofgay.com
SUMMARY:Santa Fe Pride - NM
DESCRIPTION:Celebrate with us as we embark on the 32nd anniversary of the Human Rights Alliance and the PRIDE Santa Fe 2025 Celebration! Last year\, we welcomed well over 12\,000 attendees to PRIDE. \nDaddy SamSmoker of fine tires\, eater of natural foods\, connoisseur of aromatic leathers\, pusher of limits.
URL:https://atouchofgay.com/event/santa-fe-pride-nm/
LOCATION:Santa Fe\, NM\, Santa Fe\, NM\, United States
END:VEVENT
BEGIN:VEVENT
DTSTART;VALUE=DATE:20250628
DTEND;VALUE=DATE:20250629
DTSTAMP:20260425T042826
CREATED:20250301T133012Z
LAST-MODIFIED:20250301T133012Z
UID:1080-1751068800-1751155199@atouchofgay.com
SUMMARY:Pride San Antonio - TX
DESCRIPTION:San Antonio’s Only Official Pride Celebration and largest LGBTQIA Night Parade! \nDaddy SamSmoker of fine tires\, eater of natural foods\, connoisseur of aromatic leathers\, pusher of limits.
URL:https://atouchofgay.com/event/pride-san-antonio-tx/
LOCATION:San Antonio\, TX\, San Antonio\, TX\, United States
END:VEVENT
BEGIN:VEVENT
DTSTART;VALUE=DATE:20250628
DTEND;VALUE=DATE:20250629
DTSTAMP:20260425T042826
CREATED:20250301T133757Z
LAST-MODIFIED:20250301T133757Z
UID:1096-1751068800-1751155199@atouchofgay.com
SUMMARY:Pride Houston - TX
DESCRIPTION:The 47th Official Houston LGBT+ Pride Celebration Festival & Parade is on Saturday\, June 28th\, 2025 \nDaddy SamSmoker of fine tires\, eater of natural foods\, connoisseur of aromatic leathers\, pusher of limits.
URL:https://atouchofgay.com/event/pride-houston-tx/
LOCATION:Houston\, TX\, Houston\, TX\, United States
END:VEVENT
BEGIN:VEVENT
DTSTART;VALUE=DATE:20250628
DTEND;VALUE=DATE:20250629
DTSTAMP:20260425T042826
CREATED:20250309T150022Z
LAST-MODIFIED:20250309T150022Z
UID:1114-1751068800-1751155199@atouchofgay.com
SUMMARY:Anchorage Pride - AK
DESCRIPTION:Join us in downtown Anchorage for a vibrant celebration of love\, acceptance\, and unity within the LGBTQ+ community. This parade is not just a display of solidarity; it’s a testament to our resilience and diversity\, reminding us of the progress we’ve made and the work that still lies ahead. \nDaddy SamSmoker of fine tires\, eater of natural foods\, connoisseur of aromatic leathers\, pusher of limits.
URL:https://atouchofgay.com/event/anchorage-pride-ak/
LOCATION:Anchorage\, Anchorage\, AK\, United States
END:VEVENT
BEGIN:VEVENT
DTSTART;VALUE=DATE:20250628
DTEND;VALUE=DATE:20250630
DTSTAMP:20260425T042826
CREATED:20250301T122702Z
LAST-MODIFIED:20250301T122702Z
UID:1019-1751068800-1751241599@atouchofgay.com
SUMMARY:San Francisco Pride - CA
DESCRIPTION:As the largest gathering of the LGBTQ+ community and allies in the nation\, our annual celebration brings together over 200 parade contingents and exhibitors\, and features many community-run stages and venues. \nDaddy SamSmoker of fine tires\, eater of natural foods\, connoisseur of aromatic leathers\, pusher of limits.
URL:https://atouchofgay.com/event/san-francisco-pride-ca/
LOCATION:San Francisco\, CA\, San Francisco\, CA\, United States
END:VEVENT
BEGIN:VEVENT
DTSTART;VALUE=DATE:20250628
DTEND;VALUE=DATE:20250630
DTSTAMP:20260425T042826
CREATED:20250301T125847Z
LAST-MODIFIED:20250301T125847Z
UID:1049-1751068800-1751241599@atouchofgay.com
SUMMARY:SLC Pride - UT
DESCRIPTION:Foster a vibrant and inclusive celebration of Queer community and its diversity\, where visibility\, belonging\, support and equity are at the heart. Showcase the rich and complicated tapestry of what it means to be Queer\, here.  Amplify the voices and experiences of our community\, through an intentionally created atmosphere of acceptance\, understanding and celebration. \nDaddy SamSmoker of fine tires\, eater of natural foods\, connoisseur of aromatic leathers\, pusher of limits.
URL:https://atouchofgay.com/event/slc-pride-ut/
LOCATION:Salt Lake City\, UT\, Salt Lake City\, UT\, United States
END:VEVENT
BEGIN:VEVENT
DTSTART;TZID=America/Denver:20250628T080000
DTEND;TZID=America/Denver:20250629T170000
DTSTAMP:20260425T042826
CREATED:20250309T151700Z
LAST-MODIFIED:20250309T151700Z
UID:1129-1751097600-1751216400@atouchofgay.com
SUMMARY:St Louis Pridefest - MO
DESCRIPTION:The largest annual pride festival in St. Louis with community dinners\, support groups\, educational workshops and so much more. \n  \nDaddy SamSmoker of fine tires\, eater of natural foods\, connoisseur of aromatic leathers\, pusher of limits.
URL:https://atouchofgay.com/event/st-louis-pridefest-mo/
LOCATION:St Louis\, St Louis\, MO\, United States
END:VEVENT
END:VCALENDAR