BEGIN:VCALENDAR
VERSION:2.0
PRODID:-//A Touch Of Gay - ECPv6.13.2.1//NONSGML v1.0//EN
CALSCALE:GREGORIAN
METHOD:PUBLISH
X-ORIGINAL-URL:https://atouchofgay.com
X-WR-CALDESC:Events for A Touch Of Gay
REFRESH-INTERVAL;VALUE=DURATION:PT1H
X-Robots-Tag:noindex
X-PUBLISHED-TTL:PT1H
BEGIN:VTIMEZONE
TZID:America/Denver
BEGIN:DAYLIGHT
TZOFFSETFROM:-0700
TZOFFSETTO:-0600
TZNAME:MDT
DTSTART:20250309T090000
END:DAYLIGHT
BEGIN:STANDARD
TZOFFSETFROM:-0600
TZOFFSETTO:-0700
TZNAME:MST
DTSTART:20251102T080000
END:STANDARD
END:VTIMEZONE
BEGIN:VEVENT
DTSTART;VALUE=DATE:20250703
DTEND;VALUE=DATE:20250707
DTSTAMP:20260425T043030
CREATED:20241215T195905Z
LAST-MODIFIED:20241215T195905Z
UID:747-1751500800-1751846399@atouchofgay.com
SUMMARY:AA International Convention - Vancouver\, BC Canada
DESCRIPTION:The once every five years International Convention of Alcoholics Anonymous. \nDaddy SamSmoker of fine tires\, eater of natural foods\, connoisseur of aromatic leathers\, pusher of limits.
URL:https://atouchofgay.com/event/aa-international-convention-vancouver-bc-canada/
LOCATION:Vancouver Convention Centre
END:VEVENT
BEGIN:VEVENT
DTSTART;VALUE=DATE:20250703
DTEND;VALUE=DATE:20250707
DTSTAMP:20260425T043031
CREATED:20241215T204808Z
LAST-MODIFIED:20241215T204808Z
UID:778-1751500800-1751846399@atouchofgay.com
SUMMARY:Dad Fest - Palm Springs\, CA
DESCRIPTION:Daddy SamSmoker of fine tires\, eater of natural foods\, connoisseur of aromatic leathers\, pusher of limits.
URL:https://atouchofgay.com/event/dad-fest-palm-springs-ca/
LOCATION:CCBC Resort\, 68300 Gay Resort Drive\, Cathedral City\, CA\, 92234\, United States
END:VEVENT
END:VCALENDAR