BEGIN:VCALENDAR
VERSION:2.0
PRODID:-//A Touch Of Gay - ECPv6.13.2.1//NONSGML v1.0//EN
CALSCALE:GREGORIAN
METHOD:PUBLISH
X-WR-CALNAME:A Touch Of Gay
X-ORIGINAL-URL:https://atouchofgay.com
X-WR-CALDESC:Events for A Touch Of Gay
REFRESH-INTERVAL;VALUE=DURATION:PT1H
X-Robots-Tag:noindex
X-PUBLISHED-TTL:PT1H
BEGIN:VTIMEZONE
TZID:America/Denver
BEGIN:DAYLIGHT
TZOFFSETFROM:-0700
TZOFFSETTO:-0600
TZNAME:MDT
DTSTART:20260308T090000
END:DAYLIGHT
BEGIN:STANDARD
TZOFFSETFROM:-0600
TZOFFSETTO:-0700
TZNAME:MST
DTSTART:20261101T080000
END:STANDARD
END:VTIMEZONE
BEGIN:VEVENT
DTSTART;VALUE=DATE:20260312
DTEND;VALUE=DATE:20260316
DTSTAMP:20260424T143306
CREATED:20260104T193827Z
LAST-MODIFIED:20260104T193827Z
UID:1316-1773273600-1773619199@atouchofgay.com
SUMMARY:Texas Bear Round Up
DESCRIPTION:Texas Bear Round-Up™ is an annual Bear Run hosted by the Dallas Bears and held at the Hyatt Regency Hotel in Dallas\, Texas. Featuring a multitude of events at the hotel all weekend long\, as well as optional upgrades/off-site excursions to add on\, this event caters specifically to bears\, cubs\, chubs\, and their admirers.  It’s a “party with a purpose.” \nDaddy SamSmoker of fine tires\, eater of natural foods\, connoisseur of aromatic leathers\, pusher of limits.
URL:https://atouchofgay.com/event/texas-bear-round-up/
LOCATION:Dallas\, TX\, Dallas\, TX\, United States
END:VEVENT
END:VCALENDAR