BEGIN:VCALENDAR
VERSION:2.0
PRODID:-//A Touch Of Gay - ECPv6.13.2.1//NONSGML v1.0//EN
CALSCALE:GREGORIAN
METHOD:PUBLISH
X-WR-CALNAME:A Touch Of Gay
X-ORIGINAL-URL:https://atouchofgay.com
X-WR-CALDESC:Events for A Touch Of Gay
REFRESH-INTERVAL;VALUE=DURATION:PT1H
X-Robots-Tag:noindex
X-PUBLISHED-TTL:PT1H
BEGIN:VTIMEZONE
TZID:America/Denver
BEGIN:DAYLIGHT
TZOFFSETFROM:-0700
TZOFFSETTO:-0600
TZNAME:MDT
DTSTART:20260308T090000
END:DAYLIGHT
BEGIN:STANDARD
TZOFFSETFROM:-0600
TZOFFSETTO:-0700
TZNAME:MST
DTSTART:20261101T080000
END:STANDARD
END:VTIMEZONE
BEGIN:VEVENT
DTSTART;VALUE=DATE:20261001
DTEND;VALUE=DATE:20261004
DTSTAMP:20260424T201144
CREATED:20260104T181220Z
LAST-MODIFIED:20260104T181220Z
UID:1240-1790812800-1791071999@atouchofgay.com
SUMMARY:Fist Fest: OctoberFFist Fest
DESCRIPTION:Annual fall fisting event. See website for tickets\, hotel\, and event detail! \nDaddy SamSmoker of fine tires\, eater of natural foods\, connoisseur of aromatic leathers\, pusher of limits.
URL:https://atouchofgay.com/event/fist-fest-octoberffist-fest/
LOCATION:Metroplis Entertainment Complex\, 1250 Gordon Hwy\, Augusta\, GA\, 30901\, United States
END:VEVENT
BEGIN:VEVENT
DTSTART;TZID=America/Denver:20261003T200000
DTEND;TZID=America/Denver:20261004T000000
DTSTAMP:20260424T201144
CREATED:20260104T191454Z
LAST-MODIFIED:20260104T191454Z
UID:1289-1791057600-1791072000@atouchofgay.com
SUMMARY:MOUNT Palm Springs
DESCRIPTION:Mount is a reverse consent event where you participate as a Top (Cowboy) or Bottom (Bronco). Bottoms are blindfolded and positioned in a corral where the Tops are allowed to MOUNT freely. Held at CCBC Resort in Cathedral City\, CA. \nDaddy SamSmoker of fine tires\, eater of natural foods\, connoisseur of aromatic leathers\, pusher of limits.
URL:https://atouchofgay.com/event/mount-palm-springs-4/
LOCATION:CCBC Resort\, 68300 Gay Resort Drive\, Cathedral City\, CA\, 92234\, United States
END:VEVENT
END:VCALENDAR