BEGIN:VCALENDAR
VERSION:2.0
PRODID:-//A Touch Of Gay - ECPv6.13.2.1//NONSGML v1.0//EN
CALSCALE:GREGORIAN
METHOD:PUBLISH
X-ORIGINAL-URL:https://atouchofgay.com
X-WR-CALDESC:Events for A Touch Of Gay
REFRESH-INTERVAL;VALUE=DURATION:PT1H
X-Robots-Tag:noindex
X-PUBLISHED-TTL:PT1H
BEGIN:VTIMEZONE
TZID:America/Denver
BEGIN:DAYLIGHT
TZOFFSETFROM:-0700
TZOFFSETTO:-0600
TZNAME:MDT
DTSTART:20250309T090000
END:DAYLIGHT
BEGIN:STANDARD
TZOFFSETFROM:-0600
TZOFFSETTO:-0700
TZNAME:MST
DTSTART:20251102T080000
END:STANDARD
BEGIN:DAYLIGHT
TZOFFSETFROM:-0700
TZOFFSETTO:-0600
TZNAME:MDT
DTSTART:20260308T090000
END:DAYLIGHT
BEGIN:STANDARD
TZOFFSETFROM:-0600
TZOFFSETTO:-0700
TZNAME:MST
DTSTART:20261101T080000
END:STANDARD
END:VTIMEZONE
BEGIN:VEVENT
DTSTART;VALUE=DATE:20250710
DTEND;VALUE=DATE:20250713
DTSTAMP:20260425T092028
CREATED:20241215T174216Z
LAST-MODIFIED:20241215T174216Z
UID:736-1752105600-1752364799@atouchofgay.com
SUMMARY:Fist Fest - Ffull Moon 2025
DESCRIPTION:Online Registration Begins February 1 \nDaddy SamSmoker of fine tires\, eater of natural foods\, connoisseur of aromatic leathers\, pusher of limits.
URL:https://atouchofgay.com/event/fist-fest-ffull-moon-2025/
LOCATION:Metroplis Entertainment Complex\, 1250 Gordon Hwy\, Augusta\, GA\, 30901\, United States
END:VEVENT
BEGIN:VEVENT
DTSTART;VALUE=DATE:20250710
DTEND;VALUE=DATE:20250714
DTSTAMP:20260425T092028
CREATED:20250118T160428Z
LAST-MODIFIED:20250118T160428Z
UID:889-1752105600-1752451199@atouchofgay.com
SUMMARY:Gear Up Weekend - Northern California
DESCRIPTION:GearUp Men’s Weekend is an all-inclusive annual kink retreat where guys can socialize with\, learn from\, and play with other queer\, gay\, bi\, and trans men of all ages (21+) and backgrounds in a safe and friendly environment. \nDaddy SamSmoker of fine tires\, eater of natural foods\, connoisseur of aromatic leathers\, pusher of limits.
URL:https://atouchofgay.com/event/gear-up-weekend-northern-california/
LOCATION:Saratoga Springs Retreat Center\, 10243 Saratoga Springs Rd\, Upper Lake\, CA\, 95485\, United States
END:VEVENT
BEGIN:VEVENT
DTSTART;VALUE=DATE:20250712
DTEND;VALUE=DATE:20250720
DTSTAMP:20260425T092029
CREATED:20241215T195136Z
LAST-MODIFIED:20241215T195136Z
UID:741-1752278400-1752969599@atouchofgay.com
SUMMARY:Bear Week Provincetown 2025
DESCRIPTION:Provincetown Bear Week is the largest gathering of bears in the world. Tens of thousands come to Provincetown during this annual event to go to parties\, bars\, and clubs throughout the town. You know what you’re getting into when you attend. \nDaddy SamSmoker of fine tires\, eater of natural foods\, connoisseur of aromatic leathers\, pusher of limits.
URL:https://atouchofgay.com/event/bear-week-provincetown-2025/
LOCATION:Provincetown\, MA
END:VEVENT
BEGIN:VEVENT
DTSTART;TZID=America/Denver:20250717T080000
DTEND;TZID=America/Denver:20250720T170000
DTSTAMP:20260425T092029
CREATED:20241215T205200Z
LAST-MODIFIED:20241215T205200Z
UID:780-1752739200-1753030800@atouchofgay.com
SUMMARY:Eastern Xposure - Augusta\, GA
DESCRIPTION:The Bears are taking over Augusta! Look out \, Augusta\, here we come! We’ll be bringing all the fun of our West Coast event to the Parliament Resort for 4 days of absolute bear mayhem! We’re converting the whole place and making it Bearadise!  \nDaddy SamSmoker of fine tires\, eater of natural foods\, connoisseur of aromatic leathers\, pusher of limits.
URL:https://atouchofgay.com/event/eastern-xposure-augusta-ga/
LOCATION:Metroplis Entertainment Complex\, 1250 Gordon Hwy\, Augusta\, GA\, 30901\, United States
END:VEVENT
BEGIN:VEVENT
DTSTART;VALUE=DATE:20250719
DTEND;VALUE=DATE:20250721
DTSTAMP:20260425T092029
CREATED:20250301T123318Z
LAST-MODIFIED:20250301T123533Z
UID:1024-1752883200-1753055999@atouchofgay.com
SUMMARY:Portland Pride - OR
DESCRIPTION:Pride has been celebrated in Portland since the early 1970s\, with the first outdoor celebration in 1976. In 1994\, Pride Northwest was founded by Eric Brown\, at the request of previous organizers\, in the hopes of providing a long term stable steward for Portland Pride for many years to come. Now a year-round organization\, Pride Northwest has programs that work to uplift the visibility of LGBTQIA2S+ people in Oregon and SW Washington\, educate allies and workplaces on LGBTQIA2S+ issues\, and celebrate the successes of groups and individuals in the LGBTQIA2S+ community. \nDaddy SamSmoker of fine tires\, eater of natural foods\, connoisseur of aromatic leathers\, pusher of limits.
URL:https://atouchofgay.com/event/portland-pride-or/
LOCATION:Portland\, OR\, Portland\, OR\, United States
END:VEVENT
BEGIN:VEVENT
DTSTART;TZID=America/Denver:20250719T080000
DTEND;TZID=America/Denver:20250720T170000
DTSTAMP:20260425T092029
CREATED:20250224T145438Z
LAST-MODIFIED:20250301T122406Z
UID:938-1752912000-1753030800@atouchofgay.com
SUMMARY:San Diego Pride - CA
DESCRIPTION:San Diego. CA main Pride event of the year. \nDaddy SamSmoker of fine tires\, eater of natural foods\, connoisseur of aromatic leathers\, pusher of limits.
URL:https://atouchofgay.com/event/san-diego-pride/
LOCATION:Balboa Park\, El Prado & Sixth Ave\, San Diego\, CA\, 92103
END:VEVENT
BEGIN:VEVENT
DTSTART;VALUE=DATE:20250725
DTEND;VALUE=DATE:20250728
DTSTAMP:20260425T092029
CREATED:20241221T151303Z
LAST-MODIFIED:20241221T151303Z
UID:819-1753401600-1753660799@atouchofgay.com
SUMMARY:RGV Bears Summer Camp - Navasota\, TX
DESCRIPTION:BEARS in the WOODS. This event is intended to create a SAFE & JUDGEMENT-FREE SPACE for the Bear Community and their admirers. In this space\, we celebrate all body shapes and sizes. Body Positivity is our mantra. Themed dance parties\, social events\, and pool party! \nDaddy SamSmoker of fine tires\, eater of natural foods\, connoisseur of aromatic leathers\, pusher of limits.
URL:https://atouchofgay.com/event/rgv-bears-summer-camp-navasota-tx/
LOCATION:Grizzly Pines\, 16930 Whippoorwill Rd\, Navasota\, TX\, 77868\, United States
END:VEVENT
BEGIN:VEVENT
DTSTART;VALUE=DATE:20250727
DTEND;VALUE=DATE:20250728
DTSTAMP:20260425T092029
CREATED:20241215T211601Z
LAST-MODIFIED:20241215T211601Z
UID:797-1753574400-1753660799@atouchofgay.com
SUMMARY:Up Your Alley - San Francisco\, CA
DESCRIPTION:A leather and fetish event held in San Francisco\, California\, on the last Sunday of July on Folsom Street between 9th and 10th Streets and on Dore Street. \nDaddy SamSmoker of fine tires\, eater of natural foods\, connoisseur of aromatic leathers\, pusher of limits.
URL:https://atouchofgay.com/event/up-your-alley-san-francisco-ca/
LOCATION:San Francisco Leather District
END:VEVENT
BEGIN:VEVENT
DTSTART;VALUE=DATE:20250801
DTEND;VALUE=DATE:20250804
DTSTAMP:20260425T092029
CREATED:20250301T125647Z
LAST-MODIFIED:20250301T125647Z
UID:1043-1754006400-1754265599@atouchofgay.com
SUMMARY:Ogden Pride - UT
DESCRIPTION:Ogden Pride has selected themes each year to reflect a call to action for the community. Each year\, we host a community planning meeting to hear from them on what our theme should be. We find community support and input really brings the whole process full circle. \nDaddy SamSmoker of fine tires\, eater of natural foods\, connoisseur of aromatic leathers\, pusher of limits.
URL:https://atouchofgay.com/event/ogden-pride-ut/
LOCATION:Ogden\, UT\, Ogden\, UT\, United States
END:VEVENT
BEGIN:VEVENT
DTSTART;VALUE=DATE:20250822
DTEND;VALUE=DATE:20250825
DTSTAMP:20260425T092029
CREATED:20250105T144846Z
LAST-MODIFIED:20250105T144846Z
UID:865-1755820800-1756079999@atouchofgay.com
SUMMARY:Western Roundup Living Sober - San Francisco\, CA
DESCRIPTION:The annual Western Roundup Living Sober conference supports individual sobriety and maintains unity\, connecting Lesbian\, Gay\, Bisexual\, Transgender\, Queer\, Intersex\, Asexual or LGBTQIA+ members within the fellowship of Alcoholics Anonymous & Al-Anon since 1976. \nDaddy SamSmoker of fine tires\, eater of natural foods\, connoisseur of aromatic leathers\, pusher of limits.
URL:https://atouchofgay.com/event/western-roundup-living-sober-san-francisco-ca/
LOCATION:Holiday Inn San Francisco – Golden Gateway\, 1500 Van Ness Avenue\, San Francisco\, CA\, 94109\, United States
END:VEVENT
BEGIN:VEVENT
DTSTART;VALUE=DATE:20250823
DTEND;VALUE=DATE:20250825
DTSTAMP:20260425T092029
CREATED:20250301T133253Z
LAST-MODIFIED:20250301T133253Z
UID:1085-1755907200-1756079999@atouchofgay.com
SUMMARY:Austin Pride - TX
DESCRIPTION:The mission of the The Austin Pride Foundation is to educate\, resource\, and connect the lesbian\, gay\, bisexual\, transgender\, and queer (LGBTQ) community in Austin\, Texas. \nDaddy SamSmoker of fine tires\, eater of natural foods\, connoisseur of aromatic leathers\, pusher of limits.
URL:https://atouchofgay.com/event/austin-pride-tx/
LOCATION:Austin\, TX\, Austin\, TX\, United States
END:VEVENT
BEGIN:VEVENT
DTSTART;VALUE=DATE:20250827
DTEND;VALUE=DATE:20250901
DTSTAMP:20260425T092029
CREATED:20241215T212030Z
LAST-MODIFIED:20241215T212123Z
UID:801-1756252800-1756684799@atouchofgay.com
SUMMARY:Folsom Europe - Berlin\, Germany
DESCRIPTION:The preeminent leather street fair event in Germany. \nDaddy SamSmoker of fine tires\, eater of natural foods\, connoisseur of aromatic leathers\, pusher of limits.
URL:https://atouchofgay.com/event/folsom-europe-berlin-germany/
LOCATION:Berlin\, Berlin\, Germany
END:VEVENT
BEGIN:VEVENT
DTSTART;VALUE=DATE:20250905
DTEND;VALUE=DATE:20250908
DTSTAMP:20260425T092029
CREATED:20241221T151619Z
LAST-MODIFIED:20241221T151619Z
UID:822-1757030400-1757289599@atouchofgay.com
SUMMARY:Wet Oso Weekend - South Padre Island\, TX
DESCRIPTION:An entire 3-day weekend festival dedicated to LGBTQIA+ Bears and their admirers on South Padre Island\, TX. Themed dance parties\, beach days\, and a pool party! Expect to see some hot & hairy live entertainment\, guest DJs\, and Bears Bears Bears! WOOF! \nDaddy SamSmoker of fine tires\, eater of natural foods\, connoisseur of aromatic leathers\, pusher of limits.
URL:https://atouchofgay.com/event/wet-oso-weekend-south-padre-island-tx/
LOCATION:Holiday Inn Beach Resort\, 100 Padre Blvd\, South Padre Island\, TX\, 78597\, United States
END:VEVENT
BEGIN:VEVENT
DTSTART;VALUE=DATE:20250906
DTEND;VALUE=DATE:20250908
DTSTAMP:20260425T092029
CREATED:20250301T130905Z
LAST-MODIFIED:20250301T130905Z
UID:1062-1757116800-1757289599@atouchofgay.com
SUMMARY:Boise Pride - ID
DESCRIPTION:Boise Pride is taking over Ann Morrison Park on September 6-7\, 2025 for our biggest festival yet. More space\, bigger crowds\, and a powerful celebration of LGBTQ+ pride\, visibility\, and community. Get ready for an unforgettable weekend. \nDaddy SamSmoker of fine tires\, eater of natural foods\, connoisseur of aromatic leathers\, pusher of limits.
URL:https://atouchofgay.com/event/boise-pride-id/
LOCATION:Boise\, ID\, Boise\, ID\, United States
END:VEVENT
BEGIN:VEVENT
DTSTART;VALUE=DATE:20250928
DTEND;VALUE=DATE:20250929
DTSTAMP:20260425T092029
CREATED:20241215T211710Z
LAST-MODIFIED:20241215T211710Z
UID:799-1759017600-1759103999@atouchofgay.com
SUMMARY:Folsom Street Fair - San Francisco\, CA
DESCRIPTION:The famously infamous street fair that draws in leather/kink/alt-sex community from around the world. \nDaddy SamSmoker of fine tires\, eater of natural foods\, connoisseur of aromatic leathers\, pusher of limits.
URL:https://atouchofgay.com/event/folsom-street-fair-san-francisco-ca/
LOCATION:San Francisco Leather District
END:VEVENT
BEGIN:VEVENT
DTSTART;VALUE=DATE:20251002
DTEND;VALUE=DATE:20251005
DTSTAMP:20260425T092029
CREATED:20241215T174336Z
LAST-MODIFIED:20241215T174336Z
UID:738-1759363200-1759622399@atouchofgay.com
SUMMARY:Fist Fest - OctoberFFist Fest 2025
DESCRIPTION:Online Registration Begins May 3 \nDaddy SamSmoker of fine tires\, eater of natural foods\, connoisseur of aromatic leathers\, pusher of limits.
URL:https://atouchofgay.com/event/fist-fest-octoberffist-fest-2025/
LOCATION:Metroplis Entertainment Complex\, 1250 Gordon Hwy\, Augusta\, GA\, 30901\, United States
END:VEVENT
BEGIN:VEVENT
DTSTART;VALUE=DATE:20251007
DTEND;VALUE=DATE:20251013
DTSTAMP:20260425T092029
CREATED:20241215T205413Z
LAST-MODIFIED:20241215T205413Z
UID:782-1759795200-1760313599@atouchofgay.com
SUMMARY:Western Xposure Fall - Palm Springs\, CA
DESCRIPTION:Western Xposure returns to the CCBC Resort this October! Pool parties\, DJ’s\, hot bears\, Free BBQ\, Halloween costume parties\, spooky decorations\, and so SO much more!  \nDaddy SamSmoker of fine tires\, eater of natural foods\, connoisseur of aromatic leathers\, pusher of limits.
URL:https://atouchofgay.com/event/western-xposure-fall-palm-springs-ca/
LOCATION:CCBC Resort\, 68300 Gay Resort Drive\, Cathedral City\, CA\, 92234\, United States
END:VEVENT
BEGIN:VEVENT
DTSTART;VALUE=DATE:20251011
DTEND;VALUE=DATE:20251013
DTSTAMP:20260425T092029
CREATED:20250226T153757Z
LAST-MODIFIED:20250226T153757Z
UID:987-1760140800-1760313599@atouchofgay.com
SUMMARY:Las Vegas Pride - NV
DESCRIPTION:Celebrate Diversity at the Las Vegas PRIDE Festival\, where everyone is welcome. \nDaddy SamSmoker of fine tires\, eater of natural foods\, connoisseur of aromatic leathers\, pusher of limits.
URL:https://atouchofgay.com/event/las-vegas-pride-nv/
LOCATION:Las Vegas\, NV\, Las Vegas\, NV\, United States
END:VEVENT
BEGIN:VEVENT
DTSTART;VALUE=DATE:20251016
DTEND;VALUE=DATE:20251020
DTSTAMP:20260425T092029
CREATED:20241215T205559Z
LAST-MODIFIED:20241215T205559Z
UID:784-1760572800-1760918399@atouchofgay.com
SUMMARY:Western Xposure XXL - Palm Springs\, CA
DESCRIPTION:A Second Weekend of Xposure for the Kinkier Bears\, Chubs\, & Pups. Weekend #2 of Western Xposure is everything you love about the first weekend only with the heat turned up. \nDaddy SamSmoker of fine tires\, eater of natural foods\, connoisseur of aromatic leathers\, pusher of limits.
URL:https://atouchofgay.com/event/western-xposure-xxl-palm-springs-ca/
LOCATION:CCBC Resort\, 68300 Gay Resort Drive\, Cathedral City\, CA\, 92234\, United States
END:VEVENT
BEGIN:VEVENT
DTSTART;VALUE=DATE:20251018
DTEND;VALUE=DATE:20251020
DTSTAMP:20260425T092029
CREATED:20250226T154237Z
LAST-MODIFIED:20250226T154237Z
UID:992-1760745600-1760918399@atouchofgay.com
SUMMARY:Phoenix Pride - AZ
DESCRIPTION:This year’s Phoenix Pride Festival will be a two day celebration designed to bring our diverse LGBTQ+ and allied communities together for a weekend of camaraderie and celebration of our past\, present and future\, while raising funds for the Phoenix Pride Community Programs and educating the public about the existence and continuing civil rights battle facing our community. \nDaddy SamSmoker of fine tires\, eater of natural foods\, connoisseur of aromatic leathers\, pusher of limits.
URL:https://atouchofgay.com/event/phoenix-pride-az/
LOCATION:Steele Indian School Park\, 300 E Indian School Rd\, Phoenix\, AZ\, 85012\, United States
END:VEVENT
BEGIN:VEVENT
DTSTART;VALUE=DATE:20251030
DTEND;VALUE=DATE:20251103
DTSTAMP:20260425T092029
CREATED:20250226T150048Z
LAST-MODIFIED:20250226T150048Z
UID:979-1761782400-1762127999@atouchofgay.com
SUMMARY:Palm Springs Leather Pride - CA
DESCRIPTION:Annual Leather Pride event in Palm Springs\, CA \nDaddy SamSmoker of fine tires\, eater of natural foods\, connoisseur of aromatic leathers\, pusher of limits.
URL:https://atouchofgay.com/event/palm-springs-leather-pride-ca/
LOCATION:Palm Springs\, CA\, Palm Springs\, CA\, United States
END:VEVENT
BEGIN:VEVENT
DTSTART;VALUE=DATE:20251106
DTEND;VALUE=DATE:20251110
DTSTAMP:20260425T092029
CREATED:20250226T150316Z
LAST-MODIFIED:20250226T150316Z
UID:983-1762387200-1762732799@atouchofgay.com
SUMMARY:Palm Springs Pride - CA
DESCRIPTION:Palm Springs Pride is a 501(C)(3) nonprofit community enhancement organization. We serve as a catalyst for celebrating the strength in our diversity; we stand united for the equal rights of all Americans\, and we foster Pride in and respect for all LGBTQ communities locally and globally. \nDaddy SamSmoker of fine tires\, eater of natural foods\, connoisseur of aromatic leathers\, pusher of limits.
URL:https://atouchofgay.com/event/palm-springs-pride-ca/
LOCATION:Palm Springs\, CA\, Palm Springs\, CA\, United States
END:VEVENT
BEGIN:VEVENT
DTSTART;VALUE=DATE:20251114
DTEND;VALUE=DATE:20251117
DTSTAMP:20260425T092029
CREATED:20250301T121645Z
LAST-MODIFIED:20250301T121645Z
UID:1004-1763078400-1763337599@atouchofgay.com
SUMMARY:Tucson Pride - AZ
DESCRIPTION:Tucson Pride was founded in 1977 making it Arizona’s first and longest established LGBTQ Organization. \nDaddy SamSmoker of fine tires\, eater of natural foods\, connoisseur of aromatic leathers\, pusher of limits.
URL:https://atouchofgay.com/event/tucson-pride-az/
LOCATION:Tucson\, AZ\, Tucson\, AZ\, United States
END:VEVENT
BEGIN:VEVENT
DTSTART;VALUE=DATE:20260125
DTEND;VALUE=DATE:20260202
DTSTAMP:20260425T092029
CREATED:20260104T192504Z
LAST-MODIFIED:20260104T192504Z
UID:1300-1769299200-1769990399@atouchofgay.com
SUMMARY:Beef Dip Bear Week Puerto Vallarta
DESCRIPTION:Week long events in Puerto Vallarta comprised of multiple venues\, events\, parties and opportunities galore. Yes\, and thousands of bears! \nDaddy SamSmoker of fine tires\, eater of natural foods\, connoisseur of aromatic leathers\, pusher of limits.
URL:https://atouchofgay.com/event/beef-dip-bear-week-puerto-vallarta/
LOCATION:Puerto Vallarta\, MX
END:VEVENT
BEGIN:VEVENT
DTSTART;VALUE=DATE:20260206
DTEND;VALUE=DATE:20260209
DTSTAMP:20260425T092029
CREATED:20260104T193034Z
LAST-MODIFIED:20260104T193034Z
UID:1305-1770336000-1770595199@atouchofgay.com
SUMMARY:RGV Leather Weekend Texas
DESCRIPTION:RGV Leather Weekend 2026 celebrates our 3th Anniversary! Purchase Tickets here or visit www.rgvbears.org/rgvlw for the full event details. \nDaddy SamSmoker of fine tires\, eater of natural foods\, connoisseur of aromatic leathers\, pusher of limits.
URL:https://atouchofgay.com/event/rgv-leather-weekend-texas/
LOCATION:La Quinta McAllen Convention Center\, 801 S Ware Rd 78501\, McAllen\, TX\, 78501\, United States
END:VEVENT
BEGIN:VEVENT
DTSTART;VALUE=DATE:20260219
DTEND;VALUE=DATE:20260223
DTSTAMP:20260425T092029
CREATED:20260104T183054Z
LAST-MODIFIED:20260104T183054Z
UID:1260-1771459200-1771804799@atouchofgay.com
SUMMARY:Bear Naked Weekend Cathedral City
DESCRIPTION:WesternXposure’s big bear gathering at CCBC Resort during the IBC Weekend in Palm Springs! \nDaddy SamSmoker of fine tires\, eater of natural foods\, connoisseur of aromatic leathers\, pusher of limits.
URL:https://atouchofgay.com/event/bear-naked-weekend-cathedral-city/
LOCATION:CCBC Resort\, 68300 Gay Resort Drive\, Cathedral City\, CA\, 92234\, United States
END:VEVENT
BEGIN:VEVENT
DTSTART;VALUE=DATE:20260219
DTEND;VALUE=DATE:20260227
DTSTAMP:20260425T092029
CREATED:20260104T192721Z
LAST-MODIFIED:20260104T192721Z
UID:1303-1771459200-1772150399@atouchofgay.com
SUMMARY:International Bear Convergence Palm Springs
DESCRIPTION:International Bear Convergence (IBC) is the premier winter Bear Event in Palm Springs\, California\, welcoming thousands of frisky bears\, muscle bears\, cubs\, chasers\, chubs\, admirers & their fans to have the time of their lives! The four-day event comes to life with DJs\, live \nentertainment and thousands of bears from around the globe. In 2025\, we broke all previous attendance records. In 2026 we expect to do it again\, thanks to you\, our awesome attendees & supporters. \nDaddy SamSmoker of fine tires\, eater of natural foods\, connoisseur of aromatic leathers\, pusher of limits.
URL:https://atouchofgay.com/event/international-bear-convergence-palm-springs/
LOCATION:Hotel ZOSO\, 150 South Indian Canyon Drive\, Palm Springs\, CA\, 92262\, United States
END:VEVENT
BEGIN:VEVENT
DTSTART;VALUE=DATE:20260307
DTEND;VALUE=DATE:20260308
DTSTAMP:20260425T092029
CREATED:20260104T181854Z
LAST-MODIFIED:20260104T181854Z
UID:1247-1772841600-1772927999@atouchofgay.com
SUMMARY:Tucson Latino Pride
DESCRIPTION:Second annual Latino Pride with entertainment\, vendors\, and community. \nDaddy SamSmoker of fine tires\, eater of natural foods\, connoisseur of aromatic leathers\, pusher of limits.
URL:https://atouchofgay.com/event/tucson-latino-pride/
LOCATION:MSA Annex\, 267 South Avenida del Convento\, Tucson\, AZ\, 85745\, United States
END:VEVENT
BEGIN:VEVENT
DTSTART;VALUE=DATE:20260312
DTEND;VALUE=DATE:20260316
DTSTAMP:20260425T092029
CREATED:20260104T193827Z
LAST-MODIFIED:20260104T193827Z
UID:1316-1773273600-1773619199@atouchofgay.com
SUMMARY:Texas Bear Round Up
DESCRIPTION:Texas Bear Round-Up™ is an annual Bear Run hosted by the Dallas Bears and held at the Hyatt Regency Hotel in Dallas\, Texas. Featuring a multitude of events at the hotel all weekend long\, as well as optional upgrades/off-site excursions to add on\, this event caters specifically to bears\, cubs\, chubs\, and their admirers.  It’s a “party with a purpose.” \nDaddy SamSmoker of fine tires\, eater of natural foods\, connoisseur of aromatic leathers\, pusher of limits.
URL:https://atouchofgay.com/event/texas-bear-round-up/
LOCATION:Dallas\, TX\, Dallas\, TX\, United States
END:VEVENT
BEGIN:VEVENT
DTSTART;TZID=America/Denver:20260327T200000
DTEND;TZID=America/Denver:20260328T000000
DTSTAMP:20260425T092029
CREATED:20260104T190514Z
LAST-MODIFIED:20260104T192047Z
UID:1279-1774641600-1774656000@atouchofgay.com
SUMMARY:MOUNT Palm Springs
DESCRIPTION:Mount is a reverse consent event where you participate as a Top (Cowboy) or Bottom (Bronco). Bottoms are blindfolded and positioned in a corral where the Tops are allowed to MOUNT freely. Held at CCBC Resort in Cathedral City\, CA. \nDaddy SamSmoker of fine tires\, eater of natural foods\, connoisseur of aromatic leathers\, pusher of limits.
URL:https://atouchofgay.com/event/mount/
LOCATION:CCBC Resort\, 68300 Gay Resort Drive\, Cathedral City\, CA\, 92234\, United States
END:VEVENT
END:VCALENDAR