BEGIN:VCALENDAR
VERSION:2.0
PRODID:-//A Touch Of Gay - ECPv6.13.2.1//NONSGML v1.0//EN
CALSCALE:GREGORIAN
METHOD:PUBLISH
X-WR-CALNAME:A Touch Of Gay
X-ORIGINAL-URL:https://atouchofgay.com
X-WR-CALDESC:Events for A Touch Of Gay
REFRESH-INTERVAL;VALUE=DURATION:PT1H
X-Robots-Tag:noindex
X-PUBLISHED-TTL:PT1H
BEGIN:VTIMEZONE
TZID:America/Denver
BEGIN:DAYLIGHT
TZOFFSETFROM:-0700
TZOFFSETTO:-0600
TZNAME:MDT
DTSTART:20250309T090000
END:DAYLIGHT
BEGIN:STANDARD
TZOFFSETFROM:-0600
TZOFFSETTO:-0700
TZNAME:MST
DTSTART:20251102T080000
END:STANDARD
END:VTIMEZONE
BEGIN:VEVENT
DTSTART;VALUE=DATE:20250619
DTEND;VALUE=DATE:20250623
DTSTAMP:20260425T073947
CREATED:20241215T204513Z
LAST-MODIFIED:20241215T204513Z
UID:776-1750291200-1750636799@atouchofgay.com
SUMMARY:Heat Wave - Palm Springs\, CA
DESCRIPTION:The Official Naked Parties of Tidal Wave at CCBC Resport \nDaddy SamSmoker of fine tires\, eater of natural foods\, connoisseur of aromatic leathers\, pusher of limits.
URL:https://atouchofgay.com/event/heat-wave-palm-springs-ca/
LOCATION:CCBC Resort\, 68300 Gay Resort Drive\, Cathedral City\, CA\, 92234\, United States
END:VEVENT
BEGIN:VEVENT
DTSTART;VALUE=DATE:20250615
DTEND;VALUE=DATE:20250616
DTSTAMP:20260425T073947
CREATED:20241230T142451Z
LAST-MODIFIED:20241230T142451Z
UID:838-1749945600-1750031999@atouchofgay.com
SUMMARY:Folsom Street East - NY\, NY
DESCRIPTION:Since 1997\, Folsom Street East’s festival has become an annual highlight of the global fetish/kink calendar as a sex- and body-positive shared space on the streets of New York City. \nDaddy SamSmoker of fine tires\, eater of natural foods\, connoisseur of aromatic leathers\, pusher of limits.
URL:https://atouchofgay.com/event/folsom-street-east-ny-ny/
LOCATION:CA
END:VEVENT
BEGIN:VEVENT
DTSTART;VALUE=DATE:20250614
DTEND;VALUE=DATE:20250616
DTSTAMP:20260425T073947
CREATED:20250301T133523Z
LAST-MODIFIED:20250301T133523Z
UID:1090-1749859200-1750031999@atouchofgay.com
SUMMARY:Dallas Pride - TX
DESCRIPTION:The mission of Dallas Pride is to strengthen\, support and celebrate the LGBTQ+ community. By prioritizing inclusiveness\, Dallas Pride fosters a feeling of belonging for everyone from youth to seniors by creating events\, initiatives and programs that foster connections between members of the community\, its allies and its supporters. \nDaddy SamSmoker of fine tires\, eater of natural foods\, connoisseur of aromatic leathers\, pusher of limits.
URL:https://atouchofgay.com/event/dallas-pride-tx/
LOCATION:Dallas\, TX\, Dallas\, TX\, United States
END:VEVENT
BEGIN:VEVENT
DTSTART;VALUE=DATE:20250614
DTEND;VALUE=DATE:20250616
DTSTAMP:20260425T073947
CREATED:20250301T122219Z
LAST-MODIFIED:20250301T122219Z
UID:1014-1749859200-1750031999@atouchofgay.com
SUMMARY:Sacramento Pride - CA
DESCRIPTION:Daddy SamSmoker of fine tires\, eater of natural foods\, connoisseur of aromatic leathers\, pusher of limits.
URL:https://atouchofgay.com/event/sacramento-pride-ca/
LOCATION:Sacramento\, CA\, Sacramento\, CA\, United States
END:VEVENT
BEGIN:VEVENT
DTSTART;VALUE=DATE:20250614
DTEND;VALUE=DATE:20250615
DTSTAMP:20260425T073947
CREATED:20250301T130349Z
LAST-MODIFIED:20250301T130349Z
UID:1057-1749859200-1749945599@atouchofgay.com
SUMMARY:Spokane Pride - WA
DESCRIPTION:Through supportive education and the annual collaborative production of the area’s family-friendly Pride Parade and Festival\, we provide progressive cultural opportunities and experiences for the greater Inland Northwest community. \nDaddy SamSmoker of fine tires\, eater of natural foods\, connoisseur of aromatic leathers\, pusher of limits.
URL:https://atouchofgay.com/event/spokane-pride-wa/
LOCATION:Spokane\, WA\, Spokane\, WA\, United States
END:VEVENT
BEGIN:VEVENT
DTSTART;VALUE=DATE:20250613
DTEND;VALUE=DATE:20250616
DTSTAMP:20260425T073947
CREATED:20250226T145405Z
LAST-MODIFIED:20250226T145549Z
UID:971-1749772800-1750031999@atouchofgay.com
SUMMARY:Bisbee Pride - AZ
DESCRIPTION:Bisbee Pride began in 2004 by a small group of LGBT friends. From a small local Pride Celebration Bisbee Pride has grown into a year-round community service focused non-profit organization. \nDaddy SamSmoker of fine tires\, eater of natural foods\, connoisseur of aromatic leathers\, pusher of limits.
URL:https://atouchofgay.com/event/bisbee-pride-az/
LOCATION:Bisbee\, AZ\, Bisbee\, AZ\, United States
END:VEVENT
BEGIN:VEVENT
DTSTART;VALUE=DATE:20250608
DTEND;VALUE=DATE:20250609
DTSTAMP:20260425T073947
CREATED:20250301T121842Z
LAST-MODIFIED:20250301T121917Z
UID:1009-1749340800-1749427199@atouchofgay.com
SUMMARY:Los Angeles Pride - CA
DESCRIPTION:While we’re best known for producing the LA Pride Parade & Festival – the oldest Pride celebration in Southern California. \nDaddy SamSmoker of fine tires\, eater of natural foods\, connoisseur of aromatic leathers\, pusher of limits.
URL:https://atouchofgay.com/event/los-angeles-pride-ca/
LOCATION:Los Angeles\, CA\, Los Angeles\, CA\, United States
END:VEVENT
BEGIN:VEVENT
DTSTART;VALUE=DATE:20250607
DTEND;VALUE=DATE:20250609
DTSTAMP:20260425T073947
CREATED:20250301T130025Z
LAST-MODIFIED:20250301T130025Z
UID:1053-1749254400-1749427199@atouchofgay.com
SUMMARY:Utah Pride Festival
DESCRIPTION:Utah Pride is a celebration of hope to inspire a future without discrimination where everyone is free to be their authentic selves. \nDaddy SamSmoker of fine tires\, eater of natural foods\, connoisseur of aromatic leathers\, pusher of limits.
URL:https://atouchofgay.com/event/utah-pride-festival/
LOCATION:Salt Lake City\, UT\, Salt Lake City\, UT\, United States
END:VEVENT
BEGIN:VEVENT
DTSTART;VALUE=DATE:20250607
DTEND;VALUE=DATE:20250609
DTSTAMP:20260425T073947
CREATED:20250301T002438Z
LAST-MODIFIED:20250301T002438Z
UID:997-1749254400-1749427199@atouchofgay.com
SUMMARY:World Pride DC 2025
DESCRIPTION:Weeks long collection of Pride events in our Nation’s Capitol with parade and festival on June 7-8th. \nDaddy SamSmoker of fine tires\, eater of natural foods\, connoisseur of aromatic leathers\, pusher of limits.
URL:https://atouchofgay.com/event/world-pride-dc-2025/
LOCATION:Washington DC\, Washington\, DC\, United States
END:VEVENT
BEGIN:VEVENT
DTSTART;VALUE=DATE:20250607
DTEND;VALUE=DATE:20250608
DTSTAMP:20260425T073947
CREATED:20250301T132410Z
LAST-MODIFIED:20250301T132410Z
UID:1075-1749254400-1749340799@atouchofgay.com
SUMMARY:Rock Springs Pride - WY
DESCRIPTION:Rock Springs Pride operates the annual Rock Springs Pride Fest event and other initiatives aimed at promoting equality\, inclusion\, and representation of LGBTQIA+ Wyomingites in our communities. \nDaddy SamSmoker of fine tires\, eater of natural foods\, connoisseur of aromatic leathers\, pusher of limits.
URL:https://atouchofgay.com/event/rock-springs-pride-wy/
LOCATION:Rock Springs\, WY\, Rock Springs\, WY\, United States
END:VEVENT
BEGIN:VEVENT
DTSTART;VALUE=DATE:20250607
DTEND;VALUE=DATE:20250608
DTSTAMP:20260425T073947
CREATED:20250301T123742Z
LAST-MODIFIED:20250301T123742Z
UID:1030-1749254400-1749340799@atouchofgay.com
SUMMARY:Albuquerque PrideFest - NM
DESCRIPTION:Get ready for the celebration of the year! Albuquerque Pridefest 2025 Empower\, Unite\, Fight\, Thrive is coming to you on June 7th\, 2025\, and we’re bringing the festival to a new\, exciting location in the heart of downtown Albuquerque! \nDaddy SamSmoker of fine tires\, eater of natural foods\, connoisseur of aromatic leathers\, pusher of limits.
URL:https://atouchofgay.com/event/albuquerque-pridefest-nm/
LOCATION:Albuquerque\, NM\, Albuquerque\, NM\, United States
END:VEVENT
BEGIN:VEVENT
DTSTART;VALUE=DATE:20250606
DTEND;VALUE=DATE:20250609
DTSTAMP:20260425T073947
CREATED:20250309T151222Z
LAST-MODIFIED:20250309T151222Z
UID:1123-1749168000-1749427199@atouchofgay.com
SUMMARY:KC Pridefest - MO
DESCRIPTION:Celebrating 50 years of pride\, event includes three days of programs\, celebration and parade. \nDaddy SamSmoker of fine tires\, eater of natural foods\, connoisseur of aromatic leathers\, pusher of limits.
URL:https://atouchofgay.com/event/kc-pridefest-mo/
LOCATION:Kansas City\, MO\, Kansas City\, MO\, United States
END:VEVENT
BEGIN:VEVENT
DTSTART;VALUE=DATE:20250530
DTEND;VALUE=DATE:20250602
DTSTAMP:20260425T073947
CREATED:20250309T145609Z
LAST-MODIFIED:20250309T145609Z
UID:1110-1748563200-1748822399@atouchofgay.com
SUMMARY:Pride On 39th - OKC
DESCRIPTION:Parade and street fair at Oklahoma City. \nDaddy SamSmoker of fine tires\, eater of natural foods\, connoisseur of aromatic leathers\, pusher of limits.
URL:https://atouchofgay.com/event/pride-on-39th-okc/
LOCATION:Oklahoma Ciity\, Oklahoma City\, OK\, United States
END:VEVENT
BEGIN:VEVENT
DTSTART;VALUE=DATE:20250522
DTEND;VALUE=DATE:20250527
DTSTAMP:20260425T073947
CREATED:20241215T210754Z
LAST-MODIFIED:20241215T210754Z
UID:792-1747872000-1748303999@atouchofgay.com
SUMMARY:International Mr Leather 2025 - Chicago\, IL
DESCRIPTION:The preeminent international leather event of the year. \nDaddy SamSmoker of fine tires\, eater of natural foods\, connoisseur of aromatic leathers\, pusher of limits.
URL:https://atouchofgay.com/event/international-mr-leather-2025-chicago-il/
LOCATION:Congress Plaza Hotel\, 520 South Michigan Ave\, Chicago\, IL\, 60605\, United States
END:VEVENT
BEGIN:VEVENT
DTSTART;VALUE=DATE:20250517
DTEND;VALUE=DATE:20250518
DTSTAMP:20260425T073947
CREATED:20250309T160127Z
LAST-MODIFIED:20250309T160127Z
UID:1138-1747440000-1747526399@atouchofgay.com
SUMMARY:Tutus 'N Heels Walk - Silverlake\, CA
DESCRIPTION:Tutus ‘N Heels is a walk for the LGBTQ Youth of Camp Brave Trails. This is a fun short mile walk in High Heels and Tutus in Silverlake. Our route includes the iconic Akbar on Sunset Blvd\, the world famous Eagle LA on Santa Monica Blvd\, and a BIG PAYASOS STYLE Beer Bust at the always sexy Rough Trade Gear store on Sunset Blvd. We are bringing our community together one step at a time\, as we raise awareness and funds for important causes and charities\, such as Camp Brave Trails. A short walk flying the biggest freak flag you can muster is a great way to get others to support you as you raise funds \nDaddy SamSmoker of fine tires\, eater of natural foods\, connoisseur of aromatic leathers\, pusher of limits.
URL:https://atouchofgay.com/event/tutus-n-heels-walk-silverlake-ca/
LOCATION:Silverlake\, CA\, Silverlake\, CA\, United States
END:VEVENT
BEGIN:VEVENT
DTSTART;VALUE=DATE:20250516
DTEND;VALUE=DATE:20250519
DTSTAMP:20260425T073947
CREATED:20241215T204333Z
LAST-MODIFIED:20241215T204333Z
UID:774-1747353600-1747612799@atouchofgay.com
SUMMARY:Tag Team - Palm Springs\, CA
DESCRIPTION:CONTENT CREATOR WEEKEND WITH BEARUNION \nThis SPECIAL EVENT is aimed at attracting content creators on Twitter\, OF\, JFF\, etc… We’ve created special areas around the resort for filming freely with others in a unique and colorful outdoor environment. Meet other creators\, film together\, and share with the world. Or just watch and have fun with all the guys you love to see on the internet.  \nDaddy SamSmoker of fine tires\, eater of natural foods\, connoisseur of aromatic leathers\, pusher of limits.
URL:https://atouchofgay.com/event/tag-team-palm-springs-ca/
LOCATION:CCBC Resort\, 68300 Gay Resort Drive\, Cathedral City\, CA\, 92234\, United States
END:VEVENT
BEGIN:VEVENT
DTSTART;VALUE=DATE:20250424
DTEND;VALUE=DATE:20250427
DTSTAMP:20260425T073947
CREATED:20241215T174021Z
LAST-MODIFIED:20250224T145957Z
UID:732-1745452800-1745711999@atouchofgay.com
SUMMARY:FistFest - Spring Ffling 2025 - Augusta\, GA
DESCRIPTION:Passes for the April 2025 event will go on sale at Noon EDT\, Saturday\, January 4th \nDaddy SamSmoker of fine tires\, eater of natural foods\, connoisseur of aromatic leathers\, pusher of limits.
URL:https://atouchofgay.com/event/fistfest-spring-fling-2025/
LOCATION:Metroplis Entertainment Complex\, 1250 Gordon Hwy\, Augusta\, GA\, 30901\, United States
END:VEVENT
BEGIN:VEVENT
DTSTART;VALUE=DATE:20250417
DTEND;VALUE=DATE:20250421
DTSTAMP:20260425T073947
CREATED:20241230T152919Z
LAST-MODIFIED:20241230T152919Z
UID:842-1744848000-1745193599@atouchofgay.com
SUMMARY:Austin Kink Weekend - Austin\, TX
DESCRIPTION:Austin Kink Weekend was created with the goal to put Austin on the Kink Map! \nDaddy SamSmoker of fine tires\, eater of natural foods\, connoisseur of aromatic leathers\, pusher of limits.
URL:https://atouchofgay.com/event/austin-kink-weekend-austin-tx/
LOCATION:CA
END:VEVENT
BEGIN:VEVENT
DTSTART;VALUE=DATE:20250416
DTEND;VALUE=DATE:20250421
DTSTAMP:20260425T073947
CREATED:20241215T195440Z
LAST-MODIFIED:20241215T195440Z
UID:743-1744761600-1745193599@atouchofgay.com
SUMMARY:CLAW 25 - Cleveland\, OH
DESCRIPTION:CLAW holds that adult interest in leather\, fetish\, and BDSM is natural and healthy. We learn that from one another in person. CLAW is a 501c3 charity dedicated to fundraising\, education\, volunteerism and other charitable needs of the leather community. \nDaddy SamSmoker of fine tires\, eater of natural foods\, connoisseur of aromatic leathers\, pusher of limits.
URL:https://atouchofgay.com/event/claw-25-cleveland-oh/
LOCATION:Cleveland\, OH
END:VEVENT
BEGIN:VEVENT
DTSTART;VALUE=DATE:20250405
DTEND;VALUE=DATE:20250407
DTSTAMP:20260425T073947
CREATED:20250224T144051Z
LAST-MODIFIED:20250224T144051Z
UID:935-1743811200-1743983999@atouchofgay.com
SUMMARY:Phoenix Pride Rainbows Festival
DESCRIPTION:Two day mini Pride event in the spring\, downtown Phoenix – FREE. \nDaddy SamSmoker of fine tires\, eater of natural foods\, connoisseur of aromatic leathers\, pusher of limits.
URL:https://atouchofgay.com/event/phoenix-pride-rainbows-festival/
LOCATION:Heritage Square Park\, 113 N 6th St\, Phoenix\, AZ\, 85004\, United States
END:VEVENT
BEGIN:VEVENT
DTSTART;VALUE=DATE:20250403
DTEND;VALUE=DATE:20250407
DTSTAMP:20260425T073947
CREATED:20250224T150519Z
LAST-MODIFIED:20250224T150652Z
UID:943-1743638400-1743983999@atouchofgay.com
SUMMARY:REEGÜR Spring Blooms - Dallas\, TX
DESCRIPTION:Spring BLOOMS is one of 2 annual REEGÜR fist events—a 4-day weekend event for the male FFetish community\, centrally-located in beautiful Dallas\, Texas! \nDaddy SamSmoker of fine tires\, eater of natural foods\, connoisseur of aromatic leathers\, pusher of limits.
URL:https://atouchofgay.com/event/reegur-spring-blooms-dallas-tx/
LOCATION:Holiday Inn Express Dallas\, 7800 John W. Carpenter Fwy\, Dallas\, TX\, 75247\, United States
END:VEVENT
BEGIN:VEVENT
DTSTART;VALUE=DATE:20250403
DTEND;VALUE=DATE:20250407
DTSTAMP:20260425T073947
CREATED:20241215T204100Z
LAST-MODIFIED:20241215T204100Z
UID:772-1743638400-1743983999@atouchofgay.com
SUMMARY:Western Xposure Spring - Palm Springs\, CA
DESCRIPTION:THE BIG ONE\, southern California’s largest clothing-optional gatehring of bears! Western Xposure returns to the CCBC Resort this April with all the Pool parties\, DJ’s\, hot bears\, free lunch BBQs\, and more that you’ve come to love.   \nDaddy SamSmoker of fine tires\, eater of natural foods\, connoisseur of aromatic leathers\, pusher of limits.
URL:https://atouchofgay.com/event/western-xposure-spring-palm-springs-ca/
LOCATION:CCBC Resort\, 68300 Gay Resort Drive\, Cathedral City\, CA\, 92234\, United States
END:VEVENT
BEGIN:VEVENT
DTSTART;TZID=America/Denver:20250322T103000
DTEND;TZID=America/Denver:20250322T170000
DTSTAMP:20260425T073947
CREATED:20241215T201213Z
LAST-MODIFIED:20241215T201301Z
UID:755-1742639400-1742662800@atouchofgay.com
SUMMARY:AIDS Walk Arizona
DESCRIPTION:Join us at AIDS Walk Arizona & 5k Run at the beautiful Indian Steele School Park. \nDaddy SamSmoker of fine tires\, eater of natural foods\, connoisseur of aromatic leathers\, pusher of limits.
URL:https://atouchofgay.com/event/aids-walk-arizona/
LOCATION:Steele Indian School Park\, 300 E Indian School Rd\, Phoenix\, AZ\, 85012\, United States
END:VEVENT
BEGIN:VEVENT
DTSTART;VALUE=DATE:20250313
DTEND;VALUE=DATE:20250317
DTSTAMP:20260425T073947
CREATED:20241230T153307Z
LAST-MODIFIED:20241230T153307Z
UID:845-1741824000-1742169599@atouchofgay.com
SUMMARY:Texas Bear Roundup - Dallas\, TX
DESCRIPTION:Join us for our ‘Party with a Purpose’ with this year’s theme “Bears In Wonderland.” Come dive down the rabbit hole\, where it is always tea time\, and where we all have a raving mad time! \nDaddy SamSmoker of fine tires\, eater of natural foods\, connoisseur of aromatic leathers\, pusher of limits.
URL:https://atouchofgay.com/event/texas-bear-roundup-dallas-tx/
LOCATION:CA
END:VEVENT
BEGIN:VEVENT
DTSTART;VALUE=DATE:20250221
DTEND;VALUE=DATE:20250224
DTSTAMP:20260425T073947
CREATED:20241221T150937Z
LAST-MODIFIED:20241221T150937Z
UID:815-1740096000-1740355199@atouchofgay.com
SUMMARY:RGV Leather Weekend - McAllen\, TX
DESCRIPTION:A weekend  celebration of LGBTQIA+ “Geared Expression” in the Rio Grande Valley of Texas. Themed dance parties\, social events\, and vendor market! Experience our entertainment\, guest DJs\, and Mr. RGV Leather competition at RGVLW!  \nDaddy SamSmoker of fine tires\, eater of natural foods\, connoisseur of aromatic leathers\, pusher of limits.
URL:https://atouchofgay.com/event/rgv-leather-weekend-mcallen-tx/
LOCATION:La Quinta McAllen Convention Center\, 801 S Ware Rd 78501\, McAllen\, TX\, 78501\, United States
END:VEVENT
BEGIN:VEVENT
DTSTART;VALUE=DATE:20250220
DTEND;VALUE=DATE:20250225
DTSTAMP:20260425T073947
CREATED:20241215T203455Z
LAST-MODIFIED:20241215T203455Z
UID:764-1740009600-1740441599@atouchofgay.com
SUMMARY:International Bear Convergence - Palm Springs\, CA
DESCRIPTION:Premier winter Bear event in Palm Springs\, CA. \nDaddy SamSmoker of fine tires\, eater of natural foods\, connoisseur of aromatic leathers\, pusher of limits.
URL:https://atouchofgay.com/event/international-bear-convergence-palm-springs-ca/
LOCATION:Hotel ZOSO\, 150 South Indian Canyon Drive\, Palm Springs\, CA\, 92262\, United States
END:VEVENT
BEGIN:VEVENT
DTSTART;VALUE=DATE:20250220
DTEND;VALUE=DATE:20250224
DTSTAMP:20260425T073947
CREATED:20241215T203839Z
LAST-MODIFIED:20241215T204139Z
UID:767-1740009600-1740355199@atouchofgay.com
SUMMARY:Bear Naked - Palm Springs\, CA
DESCRIPTION:Bear event at CCBC in tandem with International Bear Convergence \nDaddy SamSmoker of fine tires\, eater of natural foods\, connoisseur of aromatic leathers\, pusher of limits.
URL:https://atouchofgay.com/event/bear-naked-palm-springs-ca/
LOCATION:CCBC Resort\, 68300 Gay Resort Drive\, Cathedral City\, CA\, 92234\, United States
END:VEVENT
BEGIN:VEVENT
DTSTART;VALUE=DATE:20250214
DTEND;VALUE=DATE:20250217
DTSTAMP:20260425T073947
CREATED:20241215T200810Z
LAST-MODIFIED:20241221T151747Z
UID:751-1739491200-1739750399@atouchofgay.com
SUMMARY:Arizona Gay Rodeo - Phoenix\, AZ
DESCRIPTION:The preeminent gay rodeo event for Arizona over multiple days. \nDaddy SamSmoker of fine tires\, eater of natural foods\, connoisseur of aromatic leathers\, pusher of limits.
URL:https://atouchofgay.com/event/arizona-gay-rodeo/
LOCATION:Corona Ranch\, 7611 S 29th Ave\, Laveen Village\, AZ\, 85339\, United States
END:VEVENT
BEGIN:VEVENT
DTSTART;VALUE=DATE:20250126
DTEND;VALUE=DATE:20250203
DTSTAMP:20260425T073947
CREATED:20241215T210155Z
LAST-MODIFIED:20241215T210224Z
UID:787-1737849600-1738540799@atouchofgay.com
SUMMARY:Beef Dip Bear Week 2025 - Puerto Vallarta\, MX
DESCRIPTION:One of the most attended Bear weeks in the world\, will take place in Puerto Vallarta Mexico from January 26th to February 2th. \nDaddy SamSmoker of fine tires\, eater of natural foods\, connoisseur of aromatic leathers\, pusher of limits.
URL:https://atouchofgay.com/event/beefdip-bear-week-2025-puerto-vallarta-mx/
LOCATION:Puerto Vallarta\, MX
END:VEVENT
BEGIN:VEVENT
DTSTART;VALUE=DATE:20250124
DTEND;VALUE=DATE:20250127
DTSTAMP:20260425T073947
CREATED:20241215T202429Z
LAST-MODIFIED:20241215T202429Z
UID:760-1737676800-1737935999@atouchofgay.com
SUMMARY:Desperado LGBTQ+ Film Festival - Phoenix\, AZ
DESCRIPTION:The Desperado LGBTQ+ Film Festival is an event hosted by the Desperado Film Club which is a Paradise Valley Community College student organization. Desperado’s mission is to showcase quality films that are related to the experiences of the LGBTQ+ community. Our goal is to create an event that is educational\, enlightening\, entertaining\, and enjoyable. In addition to the screening of films\, local artists and photographers are showcased in the art gallery. \nDaddy SamSmoker of fine tires\, eater of natural foods\, connoisseur of aromatic leathers\, pusher of limits.
URL:https://atouchofgay.com/event/desperado-lgbtq-film-festival-phoenix-az/
LOCATION:Paradise Valley Community College Center for Performing Arts\, 18401 North 32nd Street\, Phoenix\, AZ\, 85032\, United States
END:VEVENT
END:VCALENDAR