BEGIN:VCALENDAR
VERSION:2.0
PRODID:-//A Touch Of Gay - ECPv6.13.2.1//NONSGML v1.0//EN
CALSCALE:GREGORIAN
METHOD:PUBLISH
X-WR-CALNAME:A Touch Of Gay
X-ORIGINAL-URL:https://atouchofgay.com
X-WR-CALDESC:Events for A Touch Of Gay
REFRESH-INTERVAL;VALUE=DURATION:PT1H
X-Robots-Tag:noindex
X-PUBLISHED-TTL:PT1H
BEGIN:VTIMEZONE
TZID:America/Denver
BEGIN:DAYLIGHT
TZOFFSETFROM:-0700
TZOFFSETTO:-0600
TZNAME:MDT
DTSTART:20240310T090000
END:DAYLIGHT
BEGIN:STANDARD
TZOFFSETFROM:-0600
TZOFFSETTO:-0700
TZNAME:MST
DTSTART:20241103T080000
END:STANDARD
END:VTIMEZONE
BEGIN:VEVENT
DTSTART;TZID=America/Denver:20240627T080000
DTEND;TZID=America/Denver:20240630T180000
DTSTAMP:20260425T061200
CREATED:20240609T214621Z
LAST-MODIFIED:20240609T214621Z
UID:217-1719475200-1719770400@atouchofgay.com
SUMMARY:Gay & Sober Men's Conference - New York
DESCRIPTION:Our events attract hundreds of fellows from not only all across the United States but from all over the world. From Brooklyn to Brazil\, we have participants from everywhere. They flock to New York City because GSM offers more than the traditional conference or roundup experience that you may be used to. We offer a complete sober vacation!   \nDaddy SamSmoker of fine tires\, eater of natural foods\, connoisseur of aromatic leathers\, pusher of limits.
URL:https://atouchofgay.com/event/gay-sober-mens-conference-new-york/
LOCATION:Westin Times Square\, 270 W 43rd St\, New York\, NY\, 10036\, United States
END:VEVENT
END:VCALENDAR