BEGIN:VCALENDAR
VERSION:2.0
PRODID:-//A Touch Of Gay - ECPv6.13.2.1//NONSGML v1.0//EN
CALSCALE:GREGORIAN
METHOD:PUBLISH
X-ORIGINAL-URL:https://atouchofgay.com
X-WR-CALDESC:Events for A Touch Of Gay
REFRESH-INTERVAL;VALUE=DURATION:PT1H
X-Robots-Tag:noindex
X-PUBLISHED-TTL:PT1H
BEGIN:VTIMEZONE
TZID:America/Denver
BEGIN:DAYLIGHT
TZOFFSETFROM:-0700
TZOFFSETTO:-0600
TZNAME:MDT
DTSTART:20260308T090000
END:DAYLIGHT
BEGIN:STANDARD
TZOFFSETFROM:-0600
TZOFFSETTO:-0700
TZNAME:MST
DTSTART:20261101T080000
END:STANDARD
END:VTIMEZONE
BEGIN:VEVENT
DTSTART;VALUE=DATE:20260125
DTEND;VALUE=DATE:20260202
DTSTAMP:20260424T160912
CREATED:20260104T192504Z
LAST-MODIFIED:20260104T192504Z
UID:1300-1769299200-1769990399@atouchofgay.com
SUMMARY:Beef Dip Bear Week Puerto Vallarta
DESCRIPTION:Week long events in Puerto Vallarta comprised of multiple venues\, events\, parties and opportunities galore. Yes\, and thousands of bears! \nDaddy SamSmoker of fine tires\, eater of natural foods\, connoisseur of aromatic leathers\, pusher of limits.
URL:https://atouchofgay.com/event/beef-dip-bear-week-puerto-vallarta/
LOCATION:Puerto Vallarta\, MX
END:VEVENT
BEGIN:VEVENT
DTSTART;VALUE=DATE:20260206
DTEND;VALUE=DATE:20260209
DTSTAMP:20260424T160912
CREATED:20260104T193034Z
LAST-MODIFIED:20260104T193034Z
UID:1305-1770336000-1770595199@atouchofgay.com
SUMMARY:RGV Leather Weekend Texas
DESCRIPTION:RGV Leather Weekend 2026 celebrates our 3th Anniversary! Purchase Tickets here or visit www.rgvbears.org/rgvlw for the full event details. \nDaddy SamSmoker of fine tires\, eater of natural foods\, connoisseur of aromatic leathers\, pusher of limits.
URL:https://atouchofgay.com/event/rgv-leather-weekend-texas/
LOCATION:La Quinta McAllen Convention Center\, 801 S Ware Rd 78501\, McAllen\, TX\, 78501\, United States
END:VEVENT
BEGIN:VEVENT
DTSTART;VALUE=DATE:20260219
DTEND;VALUE=DATE:20260223
DTSTAMP:20260424T160912
CREATED:20260104T183054Z
LAST-MODIFIED:20260104T183054Z
UID:1260-1771459200-1771804799@atouchofgay.com
SUMMARY:Bear Naked Weekend Cathedral City
DESCRIPTION:WesternXposure’s big bear gathering at CCBC Resort during the IBC Weekend in Palm Springs! \nDaddy SamSmoker of fine tires\, eater of natural foods\, connoisseur of aromatic leathers\, pusher of limits.
URL:https://atouchofgay.com/event/bear-naked-weekend-cathedral-city/
LOCATION:CCBC Resort\, 68300 Gay Resort Drive\, Cathedral City\, CA\, 92234\, United States
END:VEVENT
BEGIN:VEVENT
DTSTART;VALUE=DATE:20260219
DTEND;VALUE=DATE:20260227
DTSTAMP:20260424T160912
CREATED:20260104T192721Z
LAST-MODIFIED:20260104T192721Z
UID:1303-1771459200-1772150399@atouchofgay.com
SUMMARY:International Bear Convergence Palm Springs
DESCRIPTION:International Bear Convergence (IBC) is the premier winter Bear Event in Palm Springs\, California\, welcoming thousands of frisky bears\, muscle bears\, cubs\, chasers\, chubs\, admirers & their fans to have the time of their lives! The four-day event comes to life with DJs\, live \nentertainment and thousands of bears from around the globe. In 2025\, we broke all previous attendance records. In 2026 we expect to do it again\, thanks to you\, our awesome attendees & supporters. \nDaddy SamSmoker of fine tires\, eater of natural foods\, connoisseur of aromatic leathers\, pusher of limits.
URL:https://atouchofgay.com/event/international-bear-convergence-palm-springs/
LOCATION:Hotel ZOSO\, 150 South Indian Canyon Drive\, Palm Springs\, CA\, 92262\, United States
END:VEVENT
END:VCALENDAR