BEGIN:VCALENDAR
VERSION:2.0
PRODID:-//A Touch Of Gay - ECPv6.13.2.1//NONSGML v1.0//EN
CALSCALE:GREGORIAN
METHOD:PUBLISH
X-ORIGINAL-URL:https://atouchofgay.com
X-WR-CALDESC:Events for A Touch Of Gay
REFRESH-INTERVAL;VALUE=DURATION:PT1H
X-Robots-Tag:noindex
X-PUBLISHED-TTL:PT1H
BEGIN:VTIMEZONE
TZID:America/Denver
BEGIN:DAYLIGHT
TZOFFSETFROM:-0700
TZOFFSETTO:-0600
TZNAME:MDT
DTSTART:20260308T090000
END:DAYLIGHT
BEGIN:STANDARD
TZOFFSETFROM:-0600
TZOFFSETTO:-0700
TZNAME:MST
DTSTART:20261101T080000
END:STANDARD
END:VTIMEZONE
BEGIN:VEVENT
DTSTART;VALUE=DATE:20260702
DTEND;VALUE=DATE:20260706
DTSTAMP:20260424T160706
CREATED:20260104T184044Z
LAST-MODIFIED:20260104T184044Z
UID:1268-1782950400-1783295999@atouchofgay.com
SUMMARY:Western Xposure Dad Fest
DESCRIPTION:CCBC Resort in Cathedral City is host to dads and daddies all weekend long for poolside and jungle backyard fun. \nDaddy SamSmoker of fine tires\, eater of natural foods\, connoisseur of aromatic leathers\, pusher of limits.
URL:https://atouchofgay.com/event/western-xposure-dad-fest/
LOCATION:CCBC Resort\, 68300 Gay Resort Drive\, Cathedral City\, CA\, 92234\, United States
END:VEVENT
BEGIN:VEVENT
DTSTART;VALUE=DATE:20260709
DTEND;VALUE=DATE:20260712
DTSTAMP:20260424T160706
CREATED:20260104T181041Z
LAST-MODIFIED:20260104T181041Z
UID:1238-1783555200-1783814399@atouchofgay.com
SUMMARY:Fist Fest: FFull Moon
DESCRIPTION:Annual Spring FFull Moon event. See website for tickets\, hotel\, and event detail! \nDaddy SamSmoker of fine tires\, eater of natural foods\, connoisseur of aromatic leathers\, pusher of limits.
URL:https://atouchofgay.com/event/fist-fest-ffull-moon/
LOCATION:Metroplis Entertainment Complex\, 1250 Gordon Hwy\, Augusta\, GA\, 30901\, United States
END:VEVENT
BEGIN:VEVENT
DTSTART;TZID=America/Denver:20260710T080000
DTEND;TZID=America/Denver:20260712T170000
DTSTAMP:20260424T160706
CREATED:20260104T194045Z
LAST-MODIFIED:20260104T194045Z
UID:1318-1783670400-1783875600@atouchofgay.com
SUMMARY:Western Roundup Living Sober
DESCRIPTION:Celebrating 50 years\, the longest running LGBTQIA+ sobriety conference in the US.  The annual Western Roundup Living Sober conference supports individual sobriety and maintains unity\, connecting Lesbian\, Gay\, Bisexual\, Transgender\, Queer\, Intersex\, Asexual or LGBTQIA+ members within the fellowship of Alcoholics Anonymous & Al-Anon since 1976. \nDaddy SamSmoker of fine tires\, eater of natural foods\, connoisseur of aromatic leathers\, pusher of limits.
URL:https://atouchofgay.com/event/western-roundup-living-sober/
LOCATION:San Francisco\, CA\, San Francisco\, CA\, United States
END:VEVENT
BEGIN:VEVENT
DTSTART;VALUE=DATE:20260716
DTEND;VALUE=DATE:20260720
DTSTAMP:20260424T160706
CREATED:20260104T184440Z
LAST-MODIFIED:20260104T184440Z
UID:1270-1784160000-1784505599@atouchofgay.com
SUMMARY:Georgia Bear Weekend
DESCRIPTION:Eastern Xposure is the big bear weekend in Augusta\, GA in July at the Parliament Resort / Metropolis Complex. \nDaddy SamSmoker of fine tires\, eater of natural foods\, connoisseur of aromatic leathers\, pusher of limits.
URL:https://atouchofgay.com/event/georgia-bear-weekend/
LOCATION:Metroplis Entertainment Complex\, 1250 Gordon Hwy\, Augusta\, GA\, 30901\, United States
END:VEVENT
BEGIN:VEVENT
DTSTART;TZID=America/Denver:20260724T210000
DTEND;TZID=America/Denver:20260725T000000
DTSTAMP:20260424T160706
CREATED:20260104T191829Z
LAST-MODIFIED:20260104T191829Z
UID:1291-1784926800-1784937600@atouchofgay.com
SUMMARY:MOUNT Augusta
DESCRIPTION:Mount is a reverse consent event where you participate as a Top (Cowboy) or Bottom (Bronco). Bottoms are blindfolded and positioned in a corral where the Tops are allowed to MOUNT freely. Held at Metropolis Complex in Augusta\, GA \nDaddy SamSmoker of fine tires\, eater of natural foods\, connoisseur of aromatic leathers\, pusher of limits.
URL:https://atouchofgay.com/event/mount-augusta/
LOCATION:Metroplis Entertainment Complex\, 1250 Gordon Hwy\, Augusta\, GA\, 30901\, United States
END:VEVENT
BEGIN:VEVENT
DTSTART;TZID=America/Denver:20260725T210000
DTEND;TZID=America/Denver:20260726T000000
DTSTAMP:20260424T160706
CREATED:20260104T191933Z
LAST-MODIFIED:20260104T191933Z
UID:1293-1785013200-1785024000@atouchofgay.com
SUMMARY:MOUNT Augusta
DESCRIPTION:Mount is a reverse consent event where you participate as a Top (Cowboy) or Bottom (Bronco). Bottoms are blindfolded and positioned in a corral where the Tops are allowed to MOUNT freely. Held at Metropolis Complex in Augusta\, GA \nDaddy SamSmoker of fine tires\, eater of natural foods\, connoisseur of aromatic leathers\, pusher of limits.
URL:https://atouchofgay.com/event/mount-augusta-2/
LOCATION:Metroplis Entertainment Complex\, 1250 Gordon Hwy\, Augusta\, GA\, 30901\, United States
END:VEVENT
BEGIN:VEVENT
DTSTART;VALUE=DATE:20260726
DTEND;VALUE=DATE:20260727
DTSTAMP:20260424T160706
CREATED:20260104T182400Z
LAST-MODIFIED:20260104T182400Z
UID:1253-1785024000-1785110399@atouchofgay.com
SUMMARY:Up Your Alley San Francisco
DESCRIPTION:The annual leather\, fetish\, kink dog pile of Dore Alley in San Francisco! \nDaddy SamSmoker of fine tires\, eater of natural foods\, connoisseur of aromatic leathers\, pusher of limits.
URL:https://atouchofgay.com/event/up-your-alley-san-francisco/
LOCATION:San Francisco Leather District
END:VEVENT
END:VCALENDAR