BEGIN:VCALENDAR
VERSION:2.0
PRODID:-//A Touch Of Gay - ECPv6.13.2.1//NONSGML v1.0//EN
CALSCALE:GREGORIAN
METHOD:PUBLISH
X-ORIGINAL-URL:https://atouchofgay.com
X-WR-CALDESC:Events for A Touch Of Gay
REFRESH-INTERVAL;VALUE=DURATION:PT1H
X-Robots-Tag:noindex
X-PUBLISHED-TTL:PT1H
BEGIN:VTIMEZONE
TZID:America/Denver
BEGIN:DAYLIGHT
TZOFFSETFROM:-0700
TZOFFSETTO:-0600
TZNAME:MDT
DTSTART:20260308T090000
END:DAYLIGHT
BEGIN:STANDARD
TZOFFSETFROM:-0600
TZOFFSETTO:-0700
TZNAME:MST
DTSTART:20261101T080000
END:STANDARD
END:VTIMEZONE
BEGIN:VEVENT
DTSTART;VALUE=DATE:20260910
DTEND;VALUE=DATE:20260914
DTSTAMP:20260424T184917
CREATED:20260104T193230Z
LAST-MODIFIED:20260104T193321Z
UID:1308-1788998400-1789343999@atouchofgay.com
SUMMARY:RGV Wet Oso Weekend Texas
DESCRIPTION:Wet Oso Weekend 2026 celebrates our 6th Anniversary at South Padre Island\, TX! Purchase Tickets here or visit www.rgvbears.org/wetosoweekend for the full event details. \nDaddy SamSmoker of fine tires\, eater of natural foods\, connoisseur of aromatic leathers\, pusher of limits.
URL:https://atouchofgay.com/event/rgv-wet-oso-weekend-texas/
LOCATION:South Padre Island\, TX\, South Padre Island\, TX\, United States
END:VEVENT
BEGIN:VEVENT
DTSTART;VALUE=DATE:20260910
DTEND;VALUE=DATE:20260914
DTSTAMP:20260424T184917
CREATED:20260104T192256Z
LAST-MODIFIED:20260104T192256Z
UID:1298-1788998400-1789343999@atouchofgay.com
SUMMARY:Folsom Europe
DESCRIPTION:Folsom Street Fair in Berlin. The big one\, the one worth the journey. \nDaddy SamSmoker of fine tires\, eater of natural foods\, connoisseur of aromatic leathers\, pusher of limits.
URL:https://atouchofgay.com/event/folsom-europe/
LOCATION:Berlin\, Berlin\, Germany
END:VEVENT
BEGIN:VEVENT
DTSTART;VALUE=DATE:20260926
DTEND;VALUE=DATE:20260927
DTSTAMP:20260424T184917
CREATED:20260104T182540Z
LAST-MODIFIED:20260104T182602Z
UID:1255-1790380800-1790467199@atouchofgay.com
SUMMARY:Folsom Street Fair San Francisco
DESCRIPTION:The big one\, the famous one\, the kinky street fair in SFO where anything goes…..in the street. \nDaddy SamSmoker of fine tires\, eater of natural foods\, connoisseur of aromatic leathers\, pusher of limits.
URL:https://atouchofgay.com/event/folsom-street-fair-san-francisco-2/
LOCATION:San Francisco Leather District
END:VEVENT
END:VCALENDAR